BEGIN:VCALENDAR
PRODID:-//kirchenweb.ch gmbh//veranstaltungsausgabe v2.0//DE
VERSION:2.0
METHOD:PUBLISH
BEGIN:VEVENT
DTSTART:20260417T091500Z
DTEND:20260417T101500Z
LOCATION:Evang. ref. Kirche\, \,
TRANSP:OPAQUE
SEQUENCE:0
UID:7606-veranstaltung@kircheamrheinfall.ch
DTSTAMP:20260414T143923Z
DESCRIPTION:11.00 Uhr auf dem Friedhof\n11.15 Uhr in der Kirche\n
 \nKontakt: Gabriela Walter\n\nWeitere Infos:
  https://www.kircheamrheinfall.ch/veranstaltung/7606
SUMMARY:Abdankung F. Rohner\, Dachsen
PRIORITY:5
X-MICROSOFT-CDO-IMPORTANCE:1
CLASS:PUBLIC
END:VEVENT
END:VCALENDAR
