BEGIN:VCALENDAR
PRODID:-//kirchenweb.ch gmbh//veranstaltungsausgabe v2.0//DE
VERSION:2.0
METHOD:PUBLISH
BEGIN:VEVENT
DTSTART:20260414T120000Z
DTEND:20260414T130000Z
LOCATION:Evang. ref. Kirche\, Laufen am Rheinfall 6\, 8447 Dachsen
TRANSP:OPAQUE
SEQUENCE:0
UID:7578-veranstaltung@kircheamrheinfall.ch
DTSTAMP:20260331T134600Z
DESCRIPTION:Kontakt: Gabriela Walter\n\nWeitere Infos:
  https://www.kircheamrheinfall.ch/veranstaltung/7578
SUMMARY:Abdankung A. Bachmann\, Flurlingen
PRIORITY:5
X-MICROSOFT-CDO-IMPORTANCE:1
CLASS:PUBLIC
END:VEVENT
END:VCALENDAR
