BEGIN:VCALENDAR
PRODID:-//kirchenweb.ch gmbh//veranstaltungsausgabe v2.0//DE
VERSION:2.0
METHOD:PUBLISH
BEGIN:VEVENT
DTSTART:20270410T123000Z
DTEND:20270410T150000Z
LOCATION:Begegnungszentrum Mesmerschüür\, \,
TRANSP:OPAQUE
SEQUENCE:0
UID:7572-veranstaltung@kircheamrheinfall.ch
DTSTAMP:20260326T070316Z
DESCRIPTION:Kontakt: Sarah Nohl\n\nWeitere Infos:
  https://www.kircheamrheinfall.ch/veranstaltung/7572
SUMMARY:Kolibri
PRIORITY:5
X-MICROSOFT-CDO-IMPORTANCE:1
CLASS:PUBLIC
END:VEVENT
END:VCALENDAR
