BEGIN:VCALENDAR
PRODID:-//kirchenweb.ch gmbh//veranstaltungsausgabe v2.0//DE
VERSION:2.0
METHOD:PUBLISH
BEGIN:VEVENT
DTSTART:20260905T073000Z
DTEND:20260905T113000Z
LOCATION:Begegnungszentrum Mesmerschüür\, Laufen am Rheinfall 8\, 8447
  Dachsen
TRANSP:OPAQUE
SEQUENCE:0
UID:7568-veranstaltung@kircheamrheinfall.ch
DTSTAMP:20260326T065919Z
DESCRIPTION:Kontakt: Sarah Nohl\n\nWeitere Infos:
  https://www.kircheamrheinfall.ch/veranstaltung/7568
SUMMARY:Kolibri
PRIORITY:5
X-MICROSOFT-CDO-IMPORTANCE:1
CLASS:PUBLIC
END:VEVENT
END:VCALENDAR
