BEGIN:VCALENDAR
PRODID:-//kirchenweb.ch gmbh//veranstaltungsausgabe v2.0//DE
VERSION:2.0
METHOD:PUBLISH
BEGIN:VEVENT
DTSTART:20260320T130000Z
DTEND:20260320T140000Z
LOCATION:Evang. ref. Kirche\, Laufen am Rheinfall 6\, 8447 Dachsen
TRANSP:OPAQUE
SEQUENCE:0
UID:7526-veranstaltung@kircheamrheinfall.ch
DTSTAMP:20260309T100205Z
DESCRIPTION:Kontakt: Gabriela Walter\n\nWeitere Infos:
  https://www.kircheamrheinfall.ch/veranstaltung/7526
SUMMARY:Abdankung H. Witzig\, Uhwiesen
PRIORITY:5
X-MICROSOFT-CDO-IMPORTANCE:1
CLASS:PUBLIC
END:VEVENT
END:VCALENDAR
