BEGIN:VCALENDAR
PRODID:-//kirchenweb.ch gmbh//veranstaltungsausgabe v2.0//DE
VERSION:2.0
METHOD:PUBLISH
BEGIN:VEVENT
DTSTART:20260520T151500Z
DTEND:20260520T164500Z
LOCATION:Begegnungszentrum Mesmerschüür\, Laufen am Rheinfall 8\, 8447
  Dachsen
TRANSP:OPAQUE
SEQUENCE:0
UID:7484-veranstaltung@kircheamrheinfall.ch
DTSTAMP:20260224T093708Z
DESCRIPTION:Kontakt: siegfried.arends@kircheamrheinfall.ch\n\nWeitere
  Infos: https://www.kircheamrheinfall.ch/veranstaltung/7484
SUMMARY:Konf-Unterricht
PRIORITY:5
X-MICROSOFT-CDO-IMPORTANCE:1
CLASS:PUBLIC
END:VEVENT
END:VCALENDAR
