BEGIN:VCALENDAR
PRODID:-//kirchenweb.ch gmbh//veranstaltungsausgabe v2.0//DE
VERSION:2.0
METHOD:PUBLISH
BEGIN:VEVENT
DTSTART:20260704T170000Z
DTEND:20260704T181500Z
LOCATION:Arche 2.0\, Laufen am Rheinfall 6\, 8447 Dachsen
TRANSP:OPAQUE
SEQUENCE:0
UID:7476-veranstaltung@kircheamrheinfall.ch
DTSTAMP:20260326T184738Z
DESCRIPTION:Konzert des Kinderchors der Talentum-Schule aus Göncruszka
  (Ungarn)\nEinblicke in den Schulalltag mit dem Pfarrehepaar Zsuzsa und
  Levente Sohajda\n\nMitwirkende: Kinderchor der Talentum-Schule\, Ágnes
  Kövecs (Klavier)\, 3 jugendliche Saxophonisten\, Pfarrehepaar Sohajda\n
 \nBereits zum zweiten Mal ist der Kinderchor der Schule Talentum aus
  Göncruszka/Ungarn in Laufen am Rheinfall zu Gast. Göncruszka ist ein
  kleines Dorf mit 600 Einwohner*innen in Nordostungarn. 2011 gründete die
  kleine reformierte Kirchgemeinde (damals 63 Mitglieder) unter Leitung des
  Pfarrehepaars Sohajda eine Schule mit 16 Kindern in 2 Klassen. Heute
  besuchen 200 Kinder die 8.-klassige Primarschule und 50 Kinder gehen in
  den Kindergarten. Die Grundüberzeugung in dieser Schule mit dem Namen
  «Talentum» lautet:  Gott hat jedem Kind Talente gegeben – diese gilt
  es zu entdecken und zu fördern! Unter anderem durch Musik! Die
  Musikschule wächst\, viele Kinder erhalten Instrumentalunterricht oder
  singen im neu gegründeten Kinderchor. \nErgänzend zum Konzert des
  Kinderchors\, der von der Konzertpianistin Ágnes Kövecs begleitet
  wird\, berichtet das Pfarrehepaar Sohajda vom Schulalltag. Die
  Talentum-Schule ist eine integrative Schule\, in der neben Kinder aus dem
  Dorf auch Romakinder und Pflegekinder (je 1/3) Platz haben. «Schule als
  Zuhause» und «Schule als Lebenshilfe» in einer Umgebung\, in der tiefe
  Armut\, Gewalt\, Arbeitslosigkeit\, Abhängigkeit von Sozialhilfe viele
  betrifft. \n\n\nKontakt: ernst.roth@kircheamrheinfall.ch\n\nWeitere
  Infos: https://www.kircheamrheinfall.ch/veranstaltung/7476
SUMMARY:TALENTIERT!
PRIORITY:5
X-MICROSOFT-CDO-IMPORTANCE:1
CLASS:PUBLIC
END:VEVENT
END:VCALENDAR
