BEGIN:VCALENDAR
PRODID:-//kirchenweb.ch gmbh//veranstaltungsausgabe v2.0//DE
VERSION:2.0
METHOD:PUBLISH
BEGIN:VEVENT
DTSTART:20260814T170000Z
DTEND:20260814T181500Z
LOCATION:Arche 2.0\, Laufen am Rheinfall 6\, 8447 Dachsen
TRANSP:OPAQUE
SEQUENCE:0
UID:7473-veranstaltung@kircheamrheinfall.ch
DTSTAMP:20260413T114719Z
DESCRIPTION:OTTO ist italienisch für "acht" und zu acht singt das
  Ensemble neue\, alte und traditionelle a cappella Musik.\n
 \nFrauen-Vokalensemble OTTO:\nLena Beber\, Alma Pfister\, Rosa Spycher\,
  Leandra Nussbaumer\, Deborah Züger\, Onna Stäheli\, Johanna
  Rademacher\, Elena Schneider \n\nDie Erde befindet sich seit jeher im
  Wandel – besonders beschleunigt jedoch seit dem Auftreten des Menschen.
  Was können wir aus der «Urziit» lernen und wie können wir uns als
  Teil der Natur verstehen\, im sich ständig drehenden Rad der Zeit?\n\nEs
  erklingen Werke von Alfred Schnittke\, Veljo Tormis\, Kaija Saariaho\,
  Ola Gjeilo u.a.\n\n Das Ensemble schreibt über sich:\nWir sind im Januar
  2023 erstmals mit der Idee zusammengekommen\, projektweise Konzerte zu
  realisieren. Wir stammen aus verschiedenen Regionen der Zentralschweiz
  und haben uns durch das Singen im Schweizer Jugendchor\, im Jungen
  Kammerchor Zürich oder durch das Studium an den verschiedenen Schweizer
  Musikhochschulen kennengelernt. Neben der professionellen Beziehung
  zueinander pflegen wir auch eine persönliche und fühlen uns durch das
  Musizieren\, Kreativität\, aber auch durch Freude und Leidenschaft an
  Vokalmusik verbunden.\n\nFür jedes Projekt übernehmen zwei von uns die
  Konzeption und musikalische Leitung. Wir sind an einem breit gefächerten
  Repertoire interessiert und haben den Anspruch\, den klanglichen
  Anforderungen von verschiedensten Kompositionen gerecht zu werden. Bis
  jetzt konnten wir drei erfolgreiche Projekte umsetzen. Den Auftakt
  bildete „Züriwasser“ im August 2023\, eine musikalische Führung
  durch das Grundwasserwerk Hardhof\, Zürich. Im zweiten Projekt\, „Im
  Chrütergarte“ im Juni 2024\, haben wir uns in den Klostergärten vom
  St. Katharina Kloster\, Wil\, und vom Kloster Fahr\, Würenlos mit
  Heilkräutern beschäftigt. Im Mai 2025 folgte unser drittes Projekt
  "Nachthimmel" in der Sternwarte Urania in Zürich.\n
 \nhttps://www.vokalensemble-otto.ch/\n\n\nKontakt:
  ernst.roth@kircheamrheinfall.ch\n\nWeitere Infos:
  https://www.kircheamrheinfall.ch/veranstaltung/7473
SUMMARY:URZIIT
PRIORITY:5
X-MICROSOFT-CDO-IMPORTANCE:1
CLASS:PUBLIC
END:VEVENT
END:VCALENDAR
