BEGIN:VCALENDAR
PRODID:-//kirchenweb.ch gmbh//veranstaltungsausgabe v2.0//DE
VERSION:2.0
METHOD:PUBLISH
BEGIN:VEVENT
DTSTART:20260731T170000Z
DTEND:20260731T181500Z
LOCATION:Arche 2.0\, Laufen am Rheinfall 6\, 8447 Dachsen
TRANSP:OPAQUE
SEQUENCE:0
UID:7471-veranstaltung@kircheamrheinfall.ch
DTSTAMP:20260326T185000Z
DESCRIPTION:Eine Reflexion über Selektion und Zugehörigkeit und wer
  eigentlich alles auf so einer Arche Platz finden darf. \n\nLukas Linder
  (Schriftsteller\, Dramatiker)\, Priska Walls (Alporn\, Posaune)\n\n
 \nBlinde Passagiere - oder was es heisst\, sich durch die Evolution zu
  schmuggeln.\nEine Reflexion über Selektion und Zugehörigkeit und wer
  eigentlich alles auf so einer Arche Platz finden darf. Und dass es neben
  dem Recht des Stärkeren noch etwas anderes geben könnte\, und was
  könnte das sein...\n\nLukas Linder\, aufgewachsen in Uhwiesen\, ist
  Verfasser von Romanen\, Theaterstücken und Kolumnen und wurde auch schon
  als lustigster Schriftsteller der Schweiz bezeichnet. Er ist Dramatiker\,
  schrieb u. a. für das Theater Basel und wurde mit mehreren Preisen
  ausgezeichnet\, darunter mit dem Kleist-Förderpreis\, dem Publikumspreis
  des Heidelberger Stückemarkts und 2021 mit dem Kasseler Förderpreis
  Komische Literatur. Nach seinen Romanen Der Letzte meiner Art (2018) und
  Der Unvollendete (2020)\, dem Geschenkbuch Die Kunst der Guten Woche
  (2022)\, erschien im Jahre 2024 von ihm beim Kein&Aber Verlag die
  tragikomische Geschichte "Charly Broms Dilemma".\n\nGeboren in Zürich\,
  studierte Priska Walss am Konservatorium ihrer Heimatstadt und erhielt
  1991 das Lehrdiplom für Posaune und grosses Blech. Sie spielte in
  verschiedenen klassischen Formationen\, wie den Blechbläserquartetten
  „Brasserie“ und „Trombaci“ und war mehr als 10 Jahre Mitglied in
  der Kammerphilharmonie Graubünden. Daneben improvisiert sie als
  Posaunistin oder Alphornistin solo oder in festen Ensembles wie dem Duo
  „Frappant“ gemeinsam mit Gabriela Friedli (p) oder mit Andel Strube
  (Blockflöten).\nDie breite stilistische Ausrichtung von Priska Walss
  spiegelt sich in den unterschiedlichen Orten ihrer Auftritte. Neben
  Jazzfestivals in europäischen Grossstädten (Prag\, Petersburg\, Paris\,
  Bratislava\, Konstanz) und im Inland (Zürich\, Baden\, Ittingen\,
  Schaffhausen) wirkte sie bei verschiedenen Theater-\, Musical- und
  Ballettproduktionen mit und entwickelte eigene Projekte\, bei denen sie
  ihre Musik mit visuellen Ausdrucksformen oder Texten kombiniert (London\,
  Rom\, Bologna\, Venedig\, Frankfurt\, Düsseldorf und div. CH-Städte\,
  Dörfer und Winkel). Im Rahmen ihrer vielfältigen Engagements ist Priska
  Walss massgeblich beteiligt an der Entdeckung und Etablierung des
  Alphorns für die experimentelle Musik in den vergangenen zwei
  Jahrzehnten. \n\n \n\n\n\n\nKontakt: ernst.roth@kircheamrheinfall.ch\n
 \nWeitere Infos: https://www.kircheamrheinfall.ch/veranstaltung/7471
SUMMARY:BLINDE PASSAGIERE – ODER WAS ES HEISST\, SICH DURCH DIE
  EVOLUTION ZU SCHMUGGELN
PRIORITY:5
X-MICROSOFT-CDO-IMPORTANCE:1
CLASS:PUBLIC
END:VEVENT
END:VCALENDAR
