BEGIN:VCALENDAR
PRODID:-//kirchenweb.ch gmbh//veranstaltungsausgabe v2.0//DE
VERSION:2.0
METHOD:PUBLISH
BEGIN:VEVENT
DTSTART:20260717T170000Z
DTEND:20260717T181500Z
LOCATION:Arche 2.0\, Laufen am Rheinfall 6\, 8447 Dachsen
TRANSP:OPAQUE
SEQUENCE:0
UID:7469-veranstaltung@kircheamrheinfall.ch
DTSTAMP:20260326T184908Z
DESCRIPTION:Eine Reise durch die Subkultur des Rap.\nPatrick Portmann
  alias sympaddyc\, \nCyrille Huber alias C-Real.\n\n"Ich empfinde viel
  Liebe für die Menschen aus der Unterschicht und für benachteiligte und
  unterdrückte Menschen. Ich selber bin als Krankenpfleger dauerhaft
  empört über die empathielose Gesundheitspolitik und über die
  Ungerechtigkeit in unserer Gesellschaft. Und dann ist da meine Musik\,
  mit ihr und mit meinen Texten kann ich meine Empörung und Wut aber auch
  Liebeskummer\, Hoffnung\, Scheitern\, Durchhaltewillen und dem wieder
  Aufstehen am besten Ausdruck verleihen."\nPaddy Portmann aka Sympaddyc\n
 \nKontakt: ernst.roth@kircheamrheinfall.ch\n\nWeitere Infos:
  https://www.kircheamrheinfall.ch/veranstaltung/7469
SUMMARY:VON SPOKEN WORD BIS SPRECHGESANG
PRIORITY:5
X-MICROSOFT-CDO-IMPORTANCE:1
CLASS:PUBLIC
END:VEVENT
END:VCALENDAR
