BEGIN:VCALENDAR
PRODID:-//kirchenweb.ch gmbh//veranstaltungsausgabe v2.0//DE
VERSION:2.0
METHOD:PUBLISH
BEGIN:VEVENT
DTSTART:20260710T170000Z
DTEND:20260710T181500Z
LOCATION:Arche 2.0\, Laufen am Rheinfall 6\, 8447 Dachsen
TRANSP:OPAQUE
SEQUENCE:0
UID:7468-veranstaltung@kircheamrheinfall.ch
DTSTAMP:20260412T181940Z
DESCRIPTION:Ein Theaterstück mit Figuren und viel Musik \nfür Kinder ab
  6 Jahren und Erwachsene.\nSimone Oberrauch (Spiel\, Gesang und
  Instrumente)\, Hanspeter Bleisch (Regie).\n\nVerschiedene Tiere kommen
  zur Zöllnerin Anna an die Grenze. Da sie aber keine Papiere haben\, will
  der König sie nicht ins Land lassen\, obwohl sie auf der Flucht sind.
  Anna hat ein weiches Herz und nimmt die Tiere bei sich auf. Als der
  König davon erfährt\, steckt er sie in den Kerker. Doch die Tiere
  befreien sie und gemeinsam ziehen alle mit Musik in die Welt und lassen
  die Grenze hinter sich.\n\nSimone Oberrauch schlüpft in die Rolle der
  Zöllnerin Anna. Die Tiere werden mit Figuren dargestellt. Für jedes
  Tier spielt Anna ein passendes Instrument. Und ihren Gesang begleitet sie
  auf dem Kontrabass.\n\n\nKontakt: ernst.roth@kircheamrheinfall.ch\n
 \nWeitere Infos: https://www.kircheamrheinfall.ch/veranstaltung/7468
SUMMARY:ANNA UND DER KÖNIG
PRIORITY:5
X-MICROSOFT-CDO-IMPORTANCE:1
CLASS:PUBLIC
END:VEVENT
END:VCALENDAR
