BEGIN:VCALENDAR
PRODID:-//kirchenweb.ch gmbh//veranstaltungsausgabe v2.0//DE
VERSION:2.0
METHOD:PUBLISH
BEGIN:VEVENT
DTSTART:20260520T170000Z
DTEND:20260520T181500Z
LOCATION:Arche 2.0\, Laufen am Rheinfall 6\, 8447 Dachsen
TRANSP:OPAQUE
SEQUENCE:0
UID:7462-veranstaltung@kircheamrheinfall.ch
DTSTAMP:20260413T180320Z
DESCRIPTION:Einblicke in die Vielfalt unserer Natur\nRita
  Hofmann-Sievert\, Lukas Schuler (Geschäftsstelle DarkSky\nSwitzerland)\,
  Dieter Baach (Naturschutzverein Dachsen und  \nUhwiesen)\, Jörg
  Güttinger (Moderation)\, Tobias Haug (Saxophon)\n\nEinblicke in die
  Vielfalt unserer Natur.\nDie Erzählung der Arche Noah ist eine der
  ältesten Geschichten\, in denen der Schutz von Arten im Zentrum steht.
  Tiere\, Pflanzen und Menschen – eine grosse Familie\, wie geht das? Wie
  geht das\, wenn manche Lebewesen nachts und andere tagsüber wach/aktiv
  sind? Wie (über-)leben alle gut miteinander?\nNaturschutzgebiete sind
  die Archen von Lebensräumen\, die wir schützen wollen. Um miteinander
  zu leben\, nutzen Tiere und Pflanzen verschiedene ökologische Nischen.
  Einige leben im Wasser oder unter der Erde\, andere darauf\, der
  Biokosmos setzt auf Spezialisierung\, alle haben ihren Platz.
  Unterschiedliche Aktivitätsmuster durch den Tag und durch die Nacht
  sowie spezialisierte Sinne sind  Schlüsselelemente für unser aller
  Leben. Wir Menschen sind Teil der Natur und müssen teilen. Wie geht das?
  \nWas gewinnen wir?\n\n\nKontakt: ernst.roth@kircheamrheinfall.ch\n
 \nWeitere Infos: https://www.kircheamrheinfall.ch/veranstaltung/7462
SUMMARY:ARTENVIELFALT IN GEFAHR
PRIORITY:5
X-MICROSOFT-CDO-IMPORTANCE:1
CLASS:PUBLIC
END:VEVENT
END:VCALENDAR
