BEGIN:VCALENDAR
PRODID:-//kirchenweb.ch gmbh//veranstaltungsausgabe v2.0//DE
VERSION:2.0
METHOD:PUBLISH
BEGIN:VEVENT
DTSTART:20260506T153000Z
DTEND:20260506T170000Z
LOCATION:Begegnungszentrum Mesmerschüür\, \,
TRANSP:OPAQUE
SEQUENCE:0
UID:7277-veranstaltung@kircheamrheinfall.ch
DTSTAMP:20260325T205222Z
DESCRIPTION:Stephan Schäfer\nJetzt gerade ist alles gut\n\n\nEin kleiner
  Schnitt am Finger\, schon wenige Stunden später hängt das Leben des
  Erzählers an einem durchsichtigen Schlauch. Er besiegt die Sepsis\, aber
  die existenzielle Bedrohung bringt eine neue Frage in sein Leben: Wenn
  sich von einer Sekunde auf die andere alles verändern kann – wieso
  nehmen wir so selbstverständlich hin\, dass wir unser Leben ständig auf
  später vertagen? Als er aus dem Krankenhaus entlassen wird\, wird er zum
  Sammler kostbarer Momente. In Liebe\, Familie\, Freundschaft\, Natur
  sucht er nach dem\, was wirklich zählt. Dabei entdeckt er\, dass die
  berührendsten Geschichten oft in den überraschendsten Au-genblicken auf
  uns warten\, sogar in vermeintlichen Nebensächlichkeiten. Eine
  Einladung\, das Leben wieder bewusster wahrzunehmen.\n\n\nBei jedem
  Treffen bestimmen wir gemeinsam\, welches Buch wir als nächstes lesen
  wollen.\nAlle Lesefreudigen und Interessierten sind herzlich eingeladen.
 \n\nDorothe Felix\, Pfarrerin\nTel. 052 659 35 78\n\n\nKontakt:
  dorothe.felix@kircheamrheinfall.ch\n\nWeitere Infos:
  https://www.kircheamrheinfall.ch/veranstaltung/7277
SUMMARY:Lesekreis
PRIORITY:5
X-MICROSOFT-CDO-IMPORTANCE:1
CLASS:PUBLIC
END:VEVENT
END:VCALENDAR
