BEGIN:VCALENDAR
PRODID:-//kirchenweb.ch gmbh//veranstaltungsausgabe v2.0//DE
VERSION:2.0
METHOD:PUBLISH
BEGIN:VEVENT
DTSTART:20261025T090000Z
DTEND:20261025T110000Z
LOCATION:Evang. ref. Kirche\, Laufen am Rheinfall 6\, 8447 Dachsen
TRANSP:OPAQUE
SEQUENCE:0
UID:7257-veranstaltung@kircheamrheinfall.ch
DTSTAMP:20251126T094906Z
DESCRIPTION:Gottesdienst - im Anschluss KGV\n\nKontakt: Gabriela Walter\n
 \nWeitere Infos: https://www.kircheamrheinfall.ch/veranstaltung/7257
SUMMARY:Gottesdienst - im Anschluss KGV
PRIORITY:5
X-MICROSOFT-CDO-IMPORTANCE:1
CLASS:PUBLIC
END:VEVENT
END:VCALENDAR
