BEGIN:VCALENDAR
PRODID:-//kirchenweb.ch gmbh//veranstaltungsausgabe v2.0//DE
VERSION:2.0
METHOD:PUBLISH
BEGIN:VEVENT
DTSTART:20260705T080000Z
DTEND:20260705T090000Z
LOCATION:Extern\, \,
TRANSP:OPAQUE
SEQUENCE:0
UID:7245-veranstaltung@kircheamrheinfall.ch
DTSTAMP:20251125T143428Z
DESCRIPTION:Badi-Gottesdienst in Langwiesen\n\nKontakt: Gabriela Walter\n
 \nWeitere Infos: https://www.kircheamrheinfall.ch/veranstaltung/7245
SUMMARY:Badi-Gottesdienst in Langwiesen
PRIORITY:5
X-MICROSOFT-CDO-IMPORTANCE:1
CLASS:PUBLIC
END:VEVENT
END:VCALENDAR
