BEGIN:VCALENDAR
PRODID:-//kirchenweb.ch gmbh//veranstaltungsausgabe v2.0//DE
VERSION:2.0
METHOD:PUBLISH
BEGIN:VEVENT
DTSTART:20260628T080000Z
DTEND:20260628T120000Z
LOCATION:Evang. ref. Kirche\, Laufen am Rheinfall 6\, 8447 Dachsen
TRANSP:OPAQUE
SEQUENCE:0
UID:7244-veranstaltung@kircheamrheinfall.ch
DTSTAMP:20260408T082356Z
DESCRIPTION:Chilefäscht mit Gottesdienst\, z’Mittag\, Kinderprogramm
 \nPfarrteam\, Unti-Kinder\, Kinder des Singtages\,\nAdrian Mira
  (Klarinette)\, Clown Schwuppdiwupp\n\nKontakt: Irmgard Keltsch\,
  Siegfried Arends\, Dorothe Felix\n\nWeitere Infos:
  https://www.kircheamrheinfall.ch/veranstaltung/7244
SUMMARY:LÄBE UNDEREM RÄGEBOGE
PRIORITY:5
X-MICROSOFT-CDO-IMPORTANCE:1
CLASS:PUBLIC
END:VEVENT
END:VCALENDAR
