BEGIN:VCALENDAR
PRODID:-//kirchenweb.ch gmbh//veranstaltungsausgabe v2.0//DE
VERSION:2.0
METHOD:PUBLISH
BEGIN:VEVENT
DTSTART:20261018T151500Z
DTEND:20261018T161500Z
LOCATION:Evang. ref. Kirche\, Laufen am Rheinfall 6\, 8447 Dachsen
TRANSP:OPAQUE
SEQUENCE:0
UID:7156-veranstaltung@kircheamrheinfall.ch
DTSTAMP:20251030T144004Z
DESCRIPTION:Schweige und höre\, neige deines Herzens Ohr...\n\nWas im
  Kanon Nr. 166 des Kirchgesangbuches formuliert ist\, trifft auf die
  Stille am Sonntagabend zu. Einmal im Monat\, gegen Abend\, bietet sich
  Gelegenheit\, zur Ruhe zu kommen.\nIn einer knapp halbstündigen Feier im
  Chor der Kirche wird im kleinen Kreis gesungen\, gebetet und in der
  Stille über Worte aus der Bibel nachgedacht. So gestärkt\, starten wir
  zuversichtlich in die neue Woche.\nFühlen Sie sich angesprochen? Sie
  sind herzlich willkommen!\n\nKontakt: Ruth Barner\, r.barner@bluewin.ch\n
 \nWeitere Infos: https://www.kircheamrheinfall.ch/veranstaltung/7156
SUMMARY:Stille am Sonntagabend
PRIORITY:5
X-MICROSOFT-CDO-IMPORTANCE:1
CLASS:PUBLIC
END:VEVENT
END:VCALENDAR
