BEGIN:VCALENDAR
PRODID:-//kirchenweb.ch gmbh//veranstaltungsausgabe v2.0//DE
VERSION:2.0
METHOD:PUBLISH
BEGIN:VEVENT
DTSTART:20260819T103000Z
DTEND:20260819T123000Z
LOCATION:Begegnungszentrum Mesmerschüür\, Laufen am Rheinfall 8\, 8447
  Dachsen
TRANSP:OPAQUE
SEQUENCE:0
UID:7085-veranstaltung@kircheamrheinfall.ch
DTSTAMP:20250918T082412Z
DESCRIPTION:Was gibt es Schöneres als sich an einen gedeckten Tisch zu
  setzen und sich in bunt gemischter Runde am gemeinsamen Essen zu erfreuen
 \nSusanne Roth\, Claudia Keller und Irmgard Keltsch sorgen für ein
  abwechslungsreiches kulinarisches Erlebnis. Für die Unkosten bitten wir
  um einen selbst festgelegten Beitrag.\n\nAnmeldung: bis am Montag davor
  beim Sekretariat: gabriela.walter@kircheamrheinfall.ch\n\nAber auch
  Gäste\, die sich spontan dazugesellen\, sind willkommen!\n\nKontakt:
  Gabriela Walter\n\nWeitere Infos:
  https://www.kircheamrheinfall.ch/veranstaltung/7085
SUMMARY:Mittagstisch
PRIORITY:5
X-MICROSOFT-CDO-IMPORTANCE:1
CLASS:PUBLIC
END:VEVENT
END:VCALENDAR
