BEGIN:VCALENDAR
PRODID:-//kirchenweb.ch gmbh//veranstaltungsausgabe v2.0//DE
VERSION:2.0
METHOD:PUBLISH
BEGIN:VEVENT
DTSTART:20260829T153000Z
DTEND:20260829T163000Z
LOCATION:Arche 2.0\, Laufen am Rheinfall 6\, 8447 Dachsen
TRANSP:OPAQUE
SEQUENCE:0
UID:6756-veranstaltung@kircheamrheinfall.ch
DTSTAMP:20260324T183543Z
DESCRIPTION:In der Reihe «Klang und Wort am Rheinfall»\n\nFagottquartett
  FAGOTTERIA\nSusann Landert\, Fagott\, Quintfagott\nPatrik Lüscher\,
  Fagott\nSimone Bissegger\, Fagott\nWalter Bassetto\, Fagott\,
  Kontrafagott\nPfr. Siegfried Arends\, Wort\n\nFagotteria - der Name ist
  Programm! Zwei Musikerinnen und zwei Musiker lassen das Fagott in all
  seinen Grössen und mit all seinen Facetten an einem Konzert
  er-klin&nbsp;gen. Das Fagott-Quartett "Fagotteria" bietet eine breite
  Palette musika&nbsp;lischer Leckerbissen von der Renaissance bis zur
  Moderne. Dabei soll das Publikum verschiedene Fagotte - vom Oktav- bis
  zum Kontrafagott - erleben und in den Genuss dieses vielseitigen
  Instrumentes kommen\, das genau so humoresk wie melancholisch erklingen\n
 \n\n\n\nKontakt: gabriela.walter@kircheamrheinfall.ch\n\nWeitere Infos:
  https://www.kircheamrheinfall.ch/veranstaltung/6756
SUMMARY:MY FAVORITE THINGS
PRIORITY:5
X-MICROSOFT-CDO-IMPORTANCE:1
CLASS:PUBLIC
END:VEVENT
END:VCALENDAR
