BEGIN:VCALENDAR
PRODID:-//kirchenweb.ch gmbh//veranstaltungsausgabe v2.0//DE
VERSION:2.0
METHOD:PUBLISH
BEGIN:VEVENT
DTSTART:20260509T153000Z
DTEND:20260509T163000Z
LOCATION:Evang. ref. Kirche\, Laufen am Rheinfall 6\, 8447 Dachsen
TRANSP:OPAQUE
SEQUENCE:0
UID:6755-veranstaltung@kircheamrheinfall.ch
DTSTAMP:20260402T054618Z
DESCRIPTION:Jugendchor vocanto der Singschule MKS Schaffhausen\n\nKontakt:
  Gabriela Walter\n\nWeitere Infos:
  https://www.kircheamrheinfall.ch/veranstaltung/6755
SUMMARY:Klang & Wort
PRIORITY:5
X-MICROSOFT-CDO-IMPORTANCE:1
CLASS:PUBLIC
END:VEVENT
END:VCALENDAR
