BEGIN:VCALENDAR
PRODID:-//kirchenweb.ch gmbh//veranstaltungsausgabe v2.0//DE
VERSION:2.0
METHOD:PUBLISH
BEGIN:VEVENT
DTSTART:20170301T180000Z
DTEND:20170301T200000Z
LOCATION:Begegnungszentrum Mesmerschüür\, Laufen am Rheinfall\, 8447
  Dachsen
TRANSP:OPAQUE
SEQUENCE:0
UID:524-veranstaltung@kircheamrheinfall.ch
DTSTAMP:20170215T090806Z
DESCRIPTION:Thema: "Das Buch der Sprüche"\n\nKontakt: Dorothe Felix\n
 \nWeitere Infos: https://www.kircheamrheinfall.ch/veranstaltung/524
SUMMARY:Bibel im Gespräch
PRIORITY:5
X-MICROSOFT-CDO-IMPORTANCE:1
CLASS:PUBLIC
END:VEVENT
END:VCALENDAR
