BEGIN:VCALENDAR
PRODID:-//kirchenweb.ch gmbh//veranstaltungsausgabe v2.0//DE
VERSION:2.0
METHOD:PUBLISH
BEGIN:VEVENT
DTSTART:20170204T170000Z
DTEND:20170204T190000Z
LOCATION:katholischen Kirche\, Feuerthalen\, \,
TRANSP:OPAQUE
SEQUENCE:0
UID:437-veranstaltung@kircheamrheinfall.ch
DTSTAMP:20161223T212435Z
DESCRIPTION:Flüchtlingsfamilien\, die aus verschiedenen Ländern zu uns
  gekommen sind und in unserem Bezirk wohnen\, kochen für uns und stellen
  somit die Spezialitäten ihres Landes vor – eine kulinarische Reise.\n
 \nKontakt: gabriela.walter@kircheamrheinfall.ch\n\nWeitere Infos:
  https://www.kircheamrheinfall.ch/veranstaltung/437
SUMMARY:Kulinarischer Abend
PRIORITY:5
X-MICROSOFT-CDO-IMPORTANCE:1
CLASS:PUBLIC
END:VEVENT
END:VCALENDAR
