BEGIN:VCALENDAR
PRODID:-//kirchenweb.ch gmbh//veranstaltungsausgabe v2.0//DE
VERSION:2.0
METHOD:PUBLISH
BEGIN:VEVENT
DTSTART:20170201T183000Z
DTEND:20170201T193000Z
LOCATION:Zentrum Spilbrett\, Feuerthalen\, \,
TRANSP:OPAQUE
SEQUENCE:0
UID:436-veranstaltung@kircheamrheinfall.ch
DTSTAMP:20170111T131110Z
DESCRIPTION:„Was ihr getan habt einem von meinen geringsten Brüdern\,
  das habt ihr mir getan.“ Mit diesen Worten Jesu sind Kirchen weltweit
  in die Pflicht genommen\, hinzuschauen\, wo Not ist und zu helfen\, auch
  Flüchtlingen.\nMatthias Herren\, seit 2011 Beauftragter für
  Flüchtlingsfragen des Hilfswerkes HEKS informiert an diesem Abend\, was
  reformierte Kirchen in Syrien und im Libanon tun und wie die
  Waldenserkirche besonders gefährdete Flüchtlinge direkt nach Italien
  fliegt.\n\n\nKontakt: gabriela.walter@kircheamrheinfall.ch\n\nWeitere
  Infos: https://www.kircheamrheinfall.ch/veranstaltung/436
SUMMARY:Vortrag Naher Osten – Flüchtlingselend ohne Ende
PRIORITY:5
X-MICROSOFT-CDO-IMPORTANCE:1
CLASS:PUBLIC
END:VEVENT
END:VCALENDAR
