BEGIN:VCALENDAR
PRODID:-//kirchenweb.ch gmbh//veranstaltungsausgabe v2.0//DE
VERSION:2.0
METHOD:PUBLISH
BEGIN:VEVENT
DTSTART:20170201T180000Z
DTEND:20170201T200000Z
LOCATION:Begegnungszentrum Mesmerschüür\, Laufen am Rheinfall\, 8447
  Dachsen
TRANSP:OPAQUE
SEQUENCE:0
UID:433-veranstaltung@kircheamrheinfall.ch
DTSTAMP:20161219T173157Z
DESCRIPTION:Kontakt: Dorothe Felix\n\nWeitere Infos:
  https://www.kircheamrheinfall.ch/veranstaltung/433
SUMMARY:Bibel im Gespräch
PRIORITY:5
X-MICROSOFT-CDO-IMPORTANCE:1
CLASS:PUBLIC
END:VEVENT
END:VCALENDAR
