BEGIN:VCALENDAR
PRODID:-//kirchenweb.ch gmbh//veranstaltungsausgabe v2.0//DE
VERSION:2.0
METHOD:PUBLISH
BEGIN:VEVENT
DTSTART:20170208T183000Z
DTEND:20170208T200000Z
LOCATION:Begegnungszentrum Mesmerschüür\, Laufen am Rheinfall\, 8447
  Dachsen
TRANSP:OPAQUE
SEQUENCE:0
UID:408-veranstaltung@kircheamrheinfall.ch
DTSTAMP:20161210T075656Z
DESCRIPTION:Kontakt: \n\nWeitere Infos:
  https://www.kircheamrheinfall.ch/veranstaltung/408
SUMMARY:Vortrag: Schweizer Auswanderer in Argentinien
PRIORITY:5
X-MICROSOFT-CDO-IMPORTANCE:1
CLASS:PUBLIC
END:VEVENT
END:VCALENDAR
