BEGIN:VCALENDAR
PRODID:-//kirchenweb.ch gmbh//veranstaltungsausgabe v2.0//DE
VERSION:2.0
METHOD:PUBLISH
BEGIN:VEVENT
DTSTART:20170303T080000Z
DTEND:20170303T100000Z
LOCATION:Evang. ref. Kirche\, Laufen am Rheinfall\, 8447 Dachsen
TRANSP:OPAQUE
SEQUENCE:0
UID:393-veranstaltung@kircheamrheinfall.ch
DTSTAMP:20170114T211843Z
DESCRIPTION:Liturgie in den Kirche mit anschliessendem Kaffee im
  Begegnungszentrum Mesmerschüür\n\nKontakt: \n\nWeitere Infos:
  https://www.kircheamrheinfall.ch/veranstaltung/393
SUMMARY:Gottesdienst zum Weltgegetstag
PRIORITY:5
X-MICROSOFT-CDO-IMPORTANCE:1
CLASS:PUBLIC
END:VEVENT
END:VCALENDAR
