BEGIN:VCALENDAR
PRODID:-//kirchenweb.ch gmbh//veranstaltungsausgabe v2.0//DE
VERSION:2.0
METHOD:PUBLISH
BEGIN:VEVENT
DTSTART:20170219T181500Z
DTEND:20170219T191500Z
LOCATION:Evang. ref. Kirche\, Laufen am Rheinfall\, 8447 Dachsen
TRANSP:OPAQUE
SEQUENCE:0
UID:383-veranstaltung@kircheamrheinfall.ch
DTSTAMP:20161117T092155Z
DESCRIPTION:Kontakt: \n\nWeitere Infos:
  https://www.kircheamrheinfall.ch/veranstaltung/383
SUMMARY:Stille am Sonntagabend
PRIORITY:5
X-MICROSOFT-CDO-IMPORTANCE:1
CLASS:PUBLIC
END:VEVENT
END:VCALENDAR
