BEGIN:VCALENDAR
PRODID:-//kirchenweb.ch gmbh//veranstaltungsausgabe v2.0//DE
VERSION:2.0
METHOD:PUBLISH
BEGIN:VEVENT
DTSTART:20170312T160000Z
DTEND:20170312T170000Z
LOCATION:Evang. ref. Kirche\, Laufen am Rheinfall\, 8447 Dachsen
TRANSP:OPAQUE
SEQUENCE:0
UID:345-veranstaltung@kircheamrheinfall.ch
DTSTAMP:20170129T101125Z
DESCRIPTION:Gottesdienst am Abend\n\nKontakt: \n\nWeitere Infos:
  https://www.kircheamrheinfall.ch/veranstaltung/345
SUMMARY:Gottesdienst am Abend gemeinsam mit Feuerthalen
PRIORITY:5
X-MICROSOFT-CDO-IMPORTANCE:1
CLASS:PUBLIC
END:VEVENT
END:VCALENDAR
