BEGIN:VCALENDAR
PRODID:-//kirchenweb.ch gmbh//veranstaltungsausgabe v2.0//DE
VERSION:2.0
METHOD:PUBLISH
BEGIN:VEVENT
DTSTART:20170305T083000Z
DTEND:20170305T093000Z
LOCATION:Evang. ref. Kirche\, Kirchstrasse 48\, 8245 Feuerthalen
TRANSP:OPAQUE
SEQUENCE:0
UID:306-veranstaltung@kircheamrheinfall.ch
DTSTAMP:20170216T095927Z
DESCRIPTION:Gottesdienst gemeinsam mit Feuerthalen in Feuerthalen\n
 \nKontakt: Karin Marterer Palm\, Tel. 052 659 25 20\n\nWeitere Infos:
  https://www.kircheamrheinfall.ch/veranstaltung/306
SUMMARY:Gottesdienst in Feuerthalen
PRIORITY:5
X-MICROSOFT-CDO-IMPORTANCE:1
CLASS:PUBLIC
END:VEVENT
END:VCALENDAR
