BEGIN:VCALENDAR
PRODID:-//kirchenweb.ch gmbh//veranstaltungsausgabe v2.0//DE
VERSION:2.0
METHOD:PUBLISH
BEGIN:VEVENT
DTSTART:20170219T093000Z
DTEND:20170219T130000Z
LOCATION:Stumpenboden Feuerthalen\, \,
TRANSP:OPAQUE
SEQUENCE:0
UID:301-veranstaltung@kircheamrheinfall.ch
DTSTAMP:20170115T110101Z
DESCRIPTION:traditioneller Suppentag in Feuerthalen Stumpenboden\n
 \nKontakt: \n\nWeitere Infos:
  https://www.kircheamrheinfall.ch/veranstaltung/301
SUMMARY:Gottesdienst am ökumenischen Suppentag in Feuerthalen
PRIORITY:5
X-MICROSOFT-CDO-IMPORTANCE:1
CLASS:PUBLIC
END:VEVENT
END:VCALENDAR
