BEGIN:VCALENDAR
PRODID:-//kirchenweb.ch gmbh//veranstaltungsausgabe v2.0//DE
VERSION:2.0
METHOD:PUBLISH
BEGIN:VEVENT
DTSTART:20170212T083000Z
DTEND:20170212T093000Z
LOCATION:Evang. ref. Kirche\, Laufen am Rheinfall\, 8447 Dachsen
TRANSP:OPAQUE
SEQUENCE:0
UID:300-veranstaltung@kircheamrheinfall.ch
DTSTAMP:20170129T100940Z
DESCRIPTION:Gottesdienst \n.\n\nKontakt: Dorothe Felix\n\nWeitere Infos:
  https://www.kircheamrheinfall.ch/veranstaltung/300
SUMMARY:Gottesdienst
PRIORITY:5
X-MICROSOFT-CDO-IMPORTANCE:1
CLASS:PUBLIC
END:VEVENT
END:VCALENDAR
