BEGIN:VCALENDAR
PRODID:-//kirchenweb.ch gmbh//veranstaltungsausgabe v2.0//DE
VERSION:2.0
METHOD:PUBLISH
BEGIN:VEVENT
DTSTART:20170115T083000Z
DTEND:20170115T093000Z
LOCATION:Evang. ref. Kirche\, Laufen am Rheinfall\, 8447 Dachsen
TRANSP:OPAQUE
SEQUENCE:0
UID:296-veranstaltung@kircheamrheinfall.ch
DTSTAMP:20170413T122250Z
DESCRIPTION:Gottesdienst mit Kanzeltausch\nEs predigt Pfarrerin Christine
  Diezi aus Dorf.\nAnschliessend Kirchenkaffee im Begegnungszentrum
  "Mesmerschüür"\n\nKontakt: \n\nWeitere Infos:
  https://www.kircheamrheinfall.ch/veranstaltung/296
SUMMARY:Gottesdienst mit Kanzeltausch
PRIORITY:5
X-MICROSOFT-CDO-IMPORTANCE:1
CLASS:PUBLIC
END:VEVENT
END:VCALENDAR
