BEGIN:VCALENDAR
PRODID:-//kirchenweb.ch gmbh//veranstaltungsausgabe v2.0//DE
VERSION:2.0
METHOD:PUBLISH
BEGIN:VEVENT
DTSTART:20170216T083000Z
DTEND:20170216T103000Z
LOCATION:Evang. ref. Kirche\, Laufen am Rheinfall\, 8447 Dachsen
TRANSP:OPAQUE
SEQUENCE:0
UID:249-veranstaltung@kircheamrheinfall.ch
DTSTAMP:20161020T093142Z
DESCRIPTION:Kontakt: \n\nWeitere Infos:
  https://www.kircheamrheinfall.ch/veranstaltung/249
SUMMARY:ElKi-Singen
PRIORITY:5
X-MICROSOFT-CDO-IMPORTANCE:1
CLASS:PUBLIC
END:VEVENT
END:VCALENDAR
