BEGIN:VCALENDAR
PRODID:-//kirchenweb.ch gmbh//veranstaltungsausgabe v2.0//DE
VERSION:2.0
METHOD:PUBLISH
BEGIN:VEVENT
DTSTART:20170209T163000Z
DTEND:20170209T183000Z
LOCATION:Begegnungszentrum Mesmerschüür\, Laufen am Rheinfall\, 8447
  Dachsen
TRANSP:OPAQUE
SEQUENCE:0
UID:211-veranstaltung@kircheamrheinfall.ch
DTSTAMP:20161026T084045Z
DESCRIPTION:Kontakt: \n\nWeitere Infos:
  https://www.kircheamrheinfall.ch/veranstaltung/211
SUMMARY:Konf-Unterricht
PRIORITY:5
X-MICROSOFT-CDO-IMPORTANCE:1
CLASS:PUBLIC
END:VEVENT
END:VCALENDAR
