BEGIN:VCALENDAR
PRODID:-//kirchenweb.ch gmbh//veranstaltungsausgabe v2.0//DE
VERSION:2.0
METHOD:PUBLISH
BEGIN:VEVENT
DTSTART:20170122T160000Z
DTEND:20170122T180000Z
LOCATION:Evang. ref. Kirche\, Laufen am Rheinfall\, 8447 Dachsen
TRANSP:OPAQUE
SEQUENCE:0
UID:193-veranstaltung@kircheamrheinfall.ch
DTSTAMP:20170110T090020Z
DESCRIPTION:Kurdistan\, Irak 1990: Die Brüder Zana (7) und Dana (10)
  leben als Waisenkinder auf den Strassen des von Saddam Hussein regierten
  Landes. Als eines Tages Superman im örtlichen Kino gezeigt wird\,
  klettern die beiden auf ein Dach\, um einen Blick auf den grössten
  Helden aller Zeiten zu erhaschen. \nVon da an wird Amerika zur Stadt
  ihrer Träume: einem magischen Ort\, an dem sie unbedingt leben wollen.
  Doch um eine solche Reise zu wagen\, braucht man Pässe und viel Geld.
  Die Situation scheint aussichtslos.\nSchliesslich machen sich Dana und
  Zana auf dem Rücken eines Esels namens Michael Jackson mit einer
  Landkarte\, einem wertlosen Medaillon\, Brot und Wasser auf den Weg. Die
  staubige\, triste Strasse zur Grenze birgt jedoch Hindernisse und
  Gefahren\, die die Beziehung der Brüder auf eine harte Probe stellt.
  Werden die beiden einen Weg über die streng bewachte Landesgrenze finden
  und ihren Traum verwirklichen können?\n\n\nKontakt: \n\nWeitere Infos:
  https://www.kircheamrheinfall.ch/veranstaltung/193
SUMMARY:Chiläkino "Bekas" - Das Abenteuer von zwei Superhelden
PRIORITY:5
X-MICROSOFT-CDO-IMPORTANCE:1
CLASS:PUBLIC
END:VEVENT
END:VCALENDAR
