BEGIN:VCALENDAR
PRODID:-//kirchenweb.ch gmbh//veranstaltungsausgabe v2.0//DE
VERSION:2.0
METHOD:PUBLISH
BEGIN:VEVENT
DTSTART:20170218T080000Z
DTEND:20170218T110000Z
LOCATION:Begegnungszentrum Mesmerschüür\, Laufen am Rheinfall\, 8447
  Dachsen
TRANSP:OPAQUE
SEQUENCE:0
UID:147-veranstaltung@kircheamrheinfall.ch
DTSTAMP:20170109T130645Z
DESCRIPTION:Kontakt: Brigitte Brandenberger\nSandra Mühle\n\nWeitere
  Infos: https://www.kircheamrheinfall.ch/veranstaltung/147
SUMMARY:2.Klasse Geschichtenmorgen
PRIORITY:5
X-MICROSOFT-CDO-IMPORTANCE:1
CLASS:PUBLIC
END:VEVENT
END:VCALENDAR
